BEGIN:VCALENDAR
METHOD:PUBLISH
VERSION:2.0
PRODID:-//Eventilla iCal Syndication//NONSGML Liana//EN
BEGIN:VEVENT
UID:xEPy6@eventilla.com
DTSTAMP:20231203T110000Z
DTSTART:20231203T110000Z
DTEND:20231203T114500Z
SUMMARY:KOIRA NIMELTÄÄN KISSA JA JOULUN IHME
DESCRIPTION:\nIkäsuositus: koko perheelle (3+)\nKesto: 45 min\nLiput: 15€ / 50€ kimppalippu (4hlö)\n
LOCATION:Tehdas Teatteri\, Itäinen rantakatu 64b\, 20810\, Turku
URL:http://ilmoittaudu.tehdasteatteri.fi/event/xEPy6
END:VEVENT
END:VCALENDAR
