BEGIN:VCALENDAR
METHOD:PUBLISH
VERSION:2.0
PRODID:-//Eventilla iCal Syndication//NONSGML Liana//EN
BEGIN:VEVENT
UID:ngOyM@eventilla.com
DTSTAMP:20230331T160000Z
DTSTART:20230331T160000Z
DTEND:20230331T170000Z
SUMMARY:ARIADNE - A Mess
DESCRIPTION:Ikäsuositus: 14+\nKesto: 1h\nLiput: 23€/21€/16€
LOCATION:Tehdas Teatteri\, Itäinen rantakatu 64b\, 20810\, Turku\, Suomi
URL:http://ilmoittaudu.tehdasteatteri.fi/event/ngOyM
END:VEVENT
END:VCALENDAR
