BEGIN:VCALENDAR
METHOD:PUBLISH
VERSION:2.0
PRODID:-//Eventilla iCal Syndication//NONSGML Liana//EN
BEGIN:VEVENT
UID:n6EPr@eventilla.com
DTSTAMP:20230913T150000Z
DTSTART:20230913T150000Z
DTEND:20230922T210000Z
SUMMARY:Tehdasfestivaali Manifesti
DESCRIPTION:Tehdasfestivaali Manifesti järjestetään jo 29. kerran 13.–23. syyskuuta 2023. Kahden viikon ajaksi Manillan kulttuuritehtaan kortteli avautuu yhteiseksi paikaksi kohdata\, viipyillä ja nauttia elämyksistä.\n<eventfeed>https://ssl.tapahtumakone.fi/syndication/table/2573f7317ca3c0aefa418cd6c63d42c7//manifesti23?status=published&hide_end_date=true&order=asc&event_venue=false</eventfeed>\nFestivaalin teemana on avautuminen\, mikä tulee esiin mm. vapaan pääsyn ohjelmistossa\, joka levittäytyy ulos Manillan sisäpihalta Aurajoen rannalle tuoden taidetta ja elämyksiä arkiseen turkulaiseen ympäristöön. Festivaalin ohjelmisto löytyy kokonaisuudessaan https://www.manillantehdas.fi/manifesti
LOCATION:Manilla\, Itäinen Rantakatu 64\, 20810\, Turku
URL:http://ilmoittaudu.tehdasteatteri.fi/manifesti2023
END:VEVENT
END:VCALENDAR
