BEGIN:VCALENDAR
METHOD:PUBLISH
VERSION:2.0
PRODID:-//Eventilla iCal Syndication//NONSGML Liana//EN
BEGIN:VEVENT
UID:mWWrM@eventilla.com
DTSTAMP:20221021T160000Z
DTSTART:20221021T160000Z
DTEND:20221021T170000Z
SUMMARY:EXTRA-NEITSYT EVANKELIUMI
DESCRIPTION:\nIkäsuositus: Aikuisille (18+)\nKesto: 1t\nLiput: 22€/20€/15€\n
LOCATION:Tehdas Teatteri\, Itäinen rantakatu 64b\, 20810\, Turku
URL:http://ilmoittaudu.tehdasteatteri.fi/event/mWWrM
END:VEVENT
END:VCALENDAR
