BEGIN:VCALENDAR
METHOD:PUBLISH
VERSION:2.0
PRODID:-//Eventilla iCal Syndication//NONSGML Liana//EN
BEGIN:VEVENT
UID:m9Qb0@eventilla.com
DTSTAMP:20230402T120000Z
DTSTART:20230402T120000Z
DTEND:20230402T130000Z
SUMMARY:HOUKKA – yhteiseksi hyväksi
DESCRIPTION:\nIkäsuositus: 12+\nKesto: 1t\nLiput: 23€/21€/16€\n
LOCATION:Tehdas Teatteri\, Itäinen rantakatu 64b\, 20810\, Turku
URL:http://ilmoittaudu.tehdasteatteri.fi/event/m9Qb0
END:VEVENT
END:VCALENDAR
