BEGIN:VCALENDAR
METHOD:PUBLISH
VERSION:2.0
PRODID:-//Eventilla iCal Syndication//NONSGML Liana//EN
BEGIN:VEVENT
UID:m0lRQ@eventilla.com
DTSTAMP:20221110T170000Z
DTSTART:20221110T170000Z
DTEND:20221110T180000Z
SUMMARY:TAINARON nukketeatteriteos
DESCRIPTION:\nIkäsuositus: Aikuisille (13+)\nKesto: 1t\, ei väliaikaa\nLiput: 22€/20€/15€\nkieli: sanaton - non-verbal\n
LOCATION:Tehdas Teatteri\, Itäinen rantakatu 64b\, 20810\, Turku
URL:http://ilmoittaudu.tehdasteatteri.fi/event/m0lRQ
END:VEVENT
END:VCALENDAR
