BEGIN:VCALENDAR
METHOD:PUBLISH
VERSION:2.0
PRODID:-//Eventilla iCal Syndication//NONSGML Liana//EN
BEGIN:VEVENT
UID:jzeRB@eventilla.com
DTSTAMP:20230429T160000Z
DTSTART:20230429T160000Z
DTEND:20230429T173000Z
SUMMARY:NOIDANKEHÄ
DESCRIPTION:\nIkäsuositus: Aikuisille 18+\nKesto: n.1t 30min\nLiput: 26€/23€/16€\n
LOCATION:Tehdas Teatteri\, Itäinen rantakatu 64b\, 20810\, Turku
URL:http://ilmoittaudu.tehdasteatteri.fi/event/jzeRB
END:VEVENT
END:VCALENDAR
