BEGIN:VCALENDAR
METHOD:PUBLISH
VERSION:2.0
PRODID:-//Eventilla iCal Syndication//NONSGML Liana//EN
BEGIN:VEVENT
UID:jw41P@eventilla.com
DTSTAMP:20230826T110500Z
DTSTART:20230826T110500Z
DTEND:20230826T114500Z
SUMMARY:Erakko
DESCRIPTION:\nIkäsuositus: 13+\nKesto: 40min\nLiput: 20€/16€\nLähtöpaikka: Kuusiston Taidekartanon kahvio / Linnanrauniontie 577\, 21620 Kaarina\n
LOCATION:Kuusisto\, Linnanrauniontie 577\, 21620\, Kaarina
URL:http://ilmoittaudu.tehdasteatteri.fi/event/jw41P
END:VEVENT
END:VCALENDAR
